BEGIN:VCALENDAR
VERSION:2.0
PRODID:-//Чернігів стародавній - ECPv4.1.2//NONSGML v1.0//EN
CALSCALE:GREGORIAN
METHOD:PUBLISH
X-WR-CALNAME:Чернігів стародавній
X-ORIGINAL-URL:https://oldchernihiv.com
X-WR-CALDESC:Events for Чернігів стародавній
BEGIN:VEVENT
DTSTART;TZID=UTC+3:20220204T120000
DTEND;TZID=UTC+3:20220204T130000
DTSTAMP:20260420T083203
CREATED:20220202T123812
LAST-MODIFIED:20220202T124103
UID:4811-1643976000-1643979600@oldchernihiv.com
SUMMARY:Відкриття виставки майстрів народного мистецтва «Різьбярський дивосвіт Чернігівщини»
DESCRIPTION:У Національному архітектурно-історичному заповіднику «Чернігів стародавній» (у Колегіумі\, на Валу) відкривається нова виставка «Різьбярський дивосвіт Чернігівщини». До 30-річчя своєї діяльності Чернігівський обласний осередок Національної спілки майстрів народного мистецтва України підготував виставку — творчий звіт провідних сучасних чернігівських різьбярів. \n\n\nhttps://oldchernihiv.com/zaproshuyemo-na-vystavku-majstriv-narodnogo-mystetstva-rizbyarskyj-dyvosvit-chernigivshhyny/?fbclid=IwAR0AsRK9JzJeyVuxAuE45wNDCdmgrNQF72LfvSg7VKX7-mkaX2Up_DoRqUg\n
URL:https://oldchernihiv.com/event/vidkryttya-vystavky-majstriv-narodnogo-mystetstva-rizbyarskyj-dyvosvit-chernigivshhyny/
LOCATION:Преображенська\,1\, Чернігів\, Ukraine
ATTACH;FMTTYPE=image/jpeg:https://oldchernihiv.com/wp-content/uploads/2022/02/4.jpg
ORGANIZER;CN="%D0%A7%D0%B5%D1%80%D0%BD%D1%96%D0%B3%D1%96%D0%B2%20%D1%81%D1%82%D0%B0%D1%80%D0%BE%D0%B4%D0%B0%D0%B2%D0%BD%D1%96%D0%B9":MAILTO:oldcher@gmail.com
END:VEVENT
END:VCALENDAR