BEGIN:VCALENDAR
VERSION:2.0
PRODID:-//Чернігів стародавній - ECPv4.1.2//NONSGML v1.0//EN
CALSCALE:GREGORIAN
METHOD:PUBLISH
X-WR-CALNAME:Чернігів стародавній
X-ORIGINAL-URL:https://oldchernihiv.com
X-WR-CALDESC:Events for Чернігів стародавній
BEGIN:VEVENT
DTSTART;VALUE=DATE:20190306
DTEND;VALUE=DATE:20190306
DTSTAMP:20260424T122127
CREATED:20190303
LAST-MODIFIED:20190303
UID:3135-1551830400-1551916799@oldchernihiv.com
SUMMARY:6 березня. Лекція «Музи Тараса Шевченка»
DESCRIPTION:Тарас Григорович був емоційною і чутливою людиною\, як і кожен поет\, закохувався досить часто. Однак лиха недоля переслідувала його все життя\, не даючи йому щастя жити у шлюбі\, у любові з дружиною\, про яку він мріяв\, особливо в останні роки свого життя.Жінки надихали Тараса Шевченка на творчість і дарували йому любов. Про них геніальний поет\, письменник та художник писав інтимні вірші.\n«…Моя ти любо! усміхнись\nІ вольную святую душу\,\nІ руку вольную\, мій друже\,\nПодай мені…» \nЛекція «Музи Тараса Шевченка» відбудеться 6 березня\, у середу\, о 15.00 у Національному архітектурно-історичному заповіднику «Чернігів стародавній» (у Колегіумі\, на Валу).\n\nЧитатиме лекцію старший науковий співробітник Людмила Нижник.\n\nВартість вхідного квитка на лекцію: 5 гривень\nТелефон для довідок: 64-59-64.\n\nАдміністрація Національного архітектурно-історичного заповідника «Чернігів стародавній».
URL:https://oldchernihiv.com/event/6-bereznya-lektsiya-muzy-tarasa-shevchenka/
LOCATION:Преображенська\,1\, Чернігів\, Ukraine
ATTACH;FMTTYPE=image/jpeg:https://oldchernihiv.com/wp-content/uploads/2019/03/43092454.jpg
ORGANIZER;CN="%D0%A7%D0%B5%D1%80%D0%BD%D1%96%D0%B3%D1%96%D0%B2%20%D1%81%D1%82%D0%B0%D1%80%D0%BE%D0%B4%D0%B0%D0%B2%D0%BD%D1%96%D0%B9":MAILTO:oldcher@gmail.com
END:VEVENT
END:VCALENDAR