BEGIN:VCALENDAR
VERSION:2.0
PRODID:-//Чернігів стародавній - ECPv4.1.2//NONSGML v1.0//EN
CALSCALE:GREGORIAN
METHOD:PUBLISH
X-WR-CALNAME:Чернігів стародавній
X-ORIGINAL-URL:https://oldchernihiv.com
X-WR-CALDESC:Events for Чернігів стародавній
BEGIN:VEVENT
DTSTART;TZID=Europe/Kiev:20211202T120000
DTEND;TZID=Europe/Kiev:20211202T130000
DTSTAMP:20260420T095956
CREATED:20211202T085144
LAST-MODIFIED:20211202T085616
UID:4753-1638446400-1638450000@oldchernihiv.com
SUMMARY:Національний заповідник «Чернігів стародавній» запрошує на відкриття виставки «Архітектурна спадщина у творчості Андрія Карнабеда»
DESCRIPTION:Відкриття виставки можна переглянути в онлайн-трансляції Свободи.ФМ: https://www.youtube.com/watch?v=d4gcl20GaqM\nВ експозиції представлено світлини та документи\, пов’язані з його життям та діяльністю\, а також 44 творчі роботи — лише невелика частина творчого доробку Андрія Антоновича як художника\, створенi у період з 1946 по 2000 роки\, що зберігаються у фондах Національного архітектурно-історичного заповідника «Чернігів стародавній». 
URL:https://oldchernihiv.com/event/2-grudnya-natsionalnyj-zapovidnyk-chernigiv-starodavnij-zaproshuye-na-vidkryttya-vystavky-arhitekturna-spadshhyna-u-tvorchosti-andriya-karnabeda-2/
LOCATION:Преображенська\,1\, Чернігів\, Ukraine
ATTACH;FMTTYPE=image/jpeg:https://oldchernihiv.com/wp-content/uploads/2021/12/45.jpg
ORGANIZER;CN="%D0%A7%D0%B5%D1%80%D0%BD%D1%96%D0%B3%D1%96%D0%B2%20%D1%81%D1%82%D0%B0%D1%80%D0%BE%D0%B4%D0%B0%D0%B2%D0%BD%D1%96%D0%B9":MAILTO:oldcher@gmail.com
END:VEVENT
END:VCALENDAR