BEGIN:VCALENDAR
VERSION:2.0
PRODID:-//Чернігів стародавній - ECPv4.1.2//NONSGML v1.0//EN
CALSCALE:GREGORIAN
METHOD:PUBLISH
X-WR-CALNAME:Чернігів стародавній
X-ORIGINAL-URL:https://oldchernihiv.com
X-WR-CALDESC:Events for Чернігів стародавній
BEGIN:VEVENT
DTSTART;TZID=UTC+3:20190417T150000
DTEND;TZID=UTC+3:20190417T160000
DTSTAMP:20260424T033855
CREATED:20190415T081309
LAST-MODIFIED:20190415T081555
UID:3229-1555513200-1555516800@oldchernihiv.com
SUMMARY:17 квітня. Лекція «Свята обитель Єлецької гори»
DESCRIPTION:Єлецький монастир у Чернігові – один з найдавніших на території Чернігово-Сіверщини. На лекції\, яку розповість молодший науковий співробітник Олександр Литовченко\, присутні ознайомляться з історією монастиря від заснування і до наших днів. Слухачі також дізнаються про архітектурні пам’ятки обителі\, видатних історичних постатей\, які пов’язані з її історією. Цікавинками для аудиторії стануть легенди про Єлецьку святиню\, про зйомки кінострічок на цій території.\nЛекція «Свята обитель Єлецької гори» відбудеться 17 квітня\, у середу\, о 15.00 у приміщенні Колегіуму (на Валу). \nВартість вхідного квитка на лекцію: 5 гривень. \nТелефон для довідок: 645-964. \nДжерело: «Чернігів стародавній».
URL:https://oldchernihiv.com/event/17-kvitnya-lektsiya-svyata-obytel-yeletskoyi-gory/
LOCATION:Преображенська\,1\, Чернігів\, Ukraine
ATTACH;FMTTYPE=image/jpeg:https://oldchernihiv.com/wp-content/uploads/2016/04/Chernigov._Eletsky_Monastery.jpg
ORGANIZER;CN="%D0%A7%D0%B5%D1%80%D0%BD%D1%96%D0%B3%D1%96%D0%B2%20%D1%81%D1%82%D0%B0%D1%80%D0%BE%D0%B4%D0%B0%D0%B2%D0%BD%D1%96%D0%B9":MAILTO:oldcher@gmail.com
END:VEVENT
END:VCALENDAR